BEGIN:VCALENDAR
VERSION:2.0
PRODID:-//eventon.com NONSGML v1.0//EN
CALSCALE:GREGORIAN
METHOD:PUBLISH
BEGIN:VEVENT
UID:69e8932fce49f
DTSTAMP:20260422T092151Z
DTSTART:20251007T070000Z
DTEND:20251007T080000Z
LOCATION:Annex-e Rue Jacques-Dalphin 38\,  1227 Carouge
SUMMARY:Cours sur l'intelligence artificielle
DESCRIPTION:Les participants explorent des outils d’IA comme Quickdraw\, 
  ChatGPT\,  ou encore Dall-e\,  ils apprennent à les utiliser et réalisen
 t un projet personnel. Ces ateliers sont conçus avec une progression et le
  développement de nouvelles compétences à chaque atelier. Il est donc ju
 dicieux de les suivre régulièrement. Les séances du 7[..]\nhttps://famil
 les-ief.ch/events/cours-sur-lintelligence-artificielle-1/
URL:https://familles-ief.ch/events/cours-sur-lintelligence-artificielle-1/
END:VEVENT
END:VCALENDAR